BEGIN:VCALENDAR
VERSION:2.0
PRODID:-//Canadian Tibetan Association of Ontario - ECPv6.15.20//NONSGML v1.0//EN
CALSCALE:GREGORIAN
METHOD:PUBLISH
X-WR-CALNAME:Canadian Tibetan Association of Ontario
X-ORIGINAL-URL:https://ctaogc.org
X-WR-CALDESC:Events for Canadian Tibetan Association of Ontario
REFRESH-INTERVAL;VALUE=DURATION:PT1H
X-Robots-Tag:noindex
X-PUBLISHED-TTL:PT1H
BEGIN:VTIMEZONE
TZID:America/Halifax
BEGIN:DAYLIGHT
TZOFFSETFROM:-0400
TZOFFSETTO:-0300
TZNAME:ADT
DTSTART:20190310T060000
END:DAYLIGHT
BEGIN:STANDARD
TZOFFSETFROM:-0300
TZOFFSETTO:-0400
TZNAME:AST
DTSTART:20191103T050000
END:STANDARD
BEGIN:DAYLIGHT
TZOFFSETFROM:-0400
TZOFFSETTO:-0300
TZNAME:ADT
DTSTART:20200308T060000
END:DAYLIGHT
BEGIN:STANDARD
TZOFFSETFROM:-0300
TZOFFSETTO:-0400
TZNAME:AST
DTSTART:20201101T050000
END:STANDARD
BEGIN:DAYLIGHT
TZOFFSETFROM:-0400
TZOFFSETTO:-0300
TZNAME:ADT
DTSTART:20210314T060000
END:DAYLIGHT
BEGIN:STANDARD
TZOFFSETFROM:-0300
TZOFFSETTO:-0400
TZNAME:AST
DTSTART:20211107T050000
END:STANDARD
END:VTIMEZONE
BEGIN:VEVENT
DTSTART;TZID=America/Halifax:20200905T100000
DTEND;TZID=America/Halifax:20200905T170000
DTSTAMP:20260424T143314
CREATED:20200904T131706Z
LAST-MODIFIED:20200904T131845Z
UID:559-1599300000-1599325200@ctaogc.org
SUMMARY:60th Anniversary of Tibetan Democracy Day Sep 5\, 2020
DESCRIPTION:Click Here to Register – Limited Seats due to Covid-19 Public Health Regulations.
URL:https://ctaogc.org/event/60th-anniversary-of-tibetan-democracy-day-sep-5-2020/
LOCATION:Tibetan Canadian Cultural Centre\, 40 Titan Road\, Etobicoke\, Ontario\, M8Z2J8\, Canada
END:VEVENT
END:VCALENDAR